BEGIN:VCALENDAR
VERSION:2.0
PRODID:-//Career Development Centre - ECPv4.9.12//NONSGML v1.0//EN
CALSCALE:GREGORIAN
METHOD:PUBLISH
X-WR-CALNAME:Career Development Centre
X-ORIGINAL-URL:http://cdc.uop.edu.pk
X-WR-CALDESC:Events for Career Development Centre
BEGIN:VTIMEZONE
TZID:UTC
BEGIN:STANDARD
TZOFFSETFROM:+0000
TZOFFSETTO:+0000
TZNAME:UTC
DTSTART:20200101T000000
END:STANDARD
END:VTIMEZONE
BEGIN:VEVENT
DTSTART;VALUE=DATE:20200117
DTEND;VALUE=DATE:20200118
DTSTAMP:20210602T094927
CREATED:20191129T101933Z
LAST-MODIFIED:20191224T072506Z
UID:622-1579219200-1579305599@cdc.uop.edu.pk
SUMMARY:GRE Mock test
DESCRIPTION:
URL:http://cdc.uop.edu.pk/index.php/events/gre-mock-test/
LOCATION:Computer Science Department\, University of Peshawar
ORGANIZER;CN="Hadia":MAILTO:hadiatahir495@gmail.com
END:VEVENT
END:VCALENDAR