BEGIN:VCALENDAR
VERSION:2.0
PRODID:-//Career Development Centre - ECPv4.9.12//NONSGML v1.0//EN
CALSCALE:GREGORIAN
METHOD:PUBLISH
X-WR-CALNAME:Career Development Centre
X-ORIGINAL-URL:http://cdc.uop.edu.pk
X-WR-CALDESC:Events for Career Development Centre
BEGIN:VTIMEZONE
TZID:UTC
BEGIN:STANDARD
TZOFFSETFROM:+0000
TZOFFSETTO:+0000
TZNAME:UTC
DTSTART:20200101T000000
END:STANDARD
END:VTIMEZONE
BEGIN:VEVENT
DTSTART;TZID=UTC:20200108T080000
DTEND;TZID=UTC:20200108T170000
DTSTAMP:20210602T094923
CREATED:20191125T075959Z
LAST-MODIFIED:20191224T071610Z
UID:377-1578470400-1578502800@cdc.uop.edu.pk
SUMMARY:GRE Orientation
DESCRIPTION:
URL:http://cdc.uop.edu.pk/index.php/events/gre-orientation/
LOCATION:University of Peshawar\, Career Development center\, UOP\, Peshawar\, KPK\, Pakistan
END:VEVENT
END:VCALENDAR